Workbook

Sheet TMO
A1: TMO - 2011 MPB Update
A2: Area (ha) of MPB Attack Severity by Age Class and Density within Pine Stands (Pine Species >= 30% density - The Pine Mask)
A3: TSA Area | B3: 1501712
A4: Pine Mask Unharvested Area | B4: =SUM(data!D2:D200) -> 383914.3
A6: MPB Attack as a percentage of Pine affected within the VRI Stand
A8: MPB Attack Severity
C9: Light (<11%) | E9: Moderate (11-30%) | G9: Severe (31-50%) | I9: Very Severe (>50%) | K9: All Severity | M9: No Attack
A10: Age Class | B10: Pine Density | C10: Area (ha) | D10: Percent of all Pine (Pine Mask) | E10: Area (ha) | F10: Percent of all Pine (Pine Mask) | G10: Area (ha) | H10: Percent of all Pine (Pine Mask) | I10: Area (ha) | J10: Percent of all Pine (Pine Mask) | K10: Total Area of Attack (ha) | L10: Percent of all Pine (Pine Mask) | M10: Area (ha) | N10: Percent of all Pine (Pine Mask)
A11: 21-40 years | B11: 30-70% | C11: {=SUM(IF(data!A2:A200="21-40 years",IF(data!B2:B200="30-70%",IF(data!C2:C200="Light (<11%)",data!D2:D200,0),0),0))} -> 783.46012 | D11: =C11/($K$20+$M$20) -> 0.0020792168 | E11: {=SUM(IF(data!A2:A200="21-40 years",IF(data!B2:B200="30-70%",IF(data!C2:C200="Moderate (11-30%)",data!D2:D200,0),0),0))} -> 2564.7802 | F11: =E11/($K$20+$M$20) -> 0.006806644 | G11: {=SUM(IF(data!A2:A200="21-40 years",IF(data!B2:B200="30-70%",IF(data!C2:C200="Severe (31-50%)",data!D2:D200,0),0),0))} -> 502.25495 | H11: =G11/($K$20+$M$20) -> 0.0013329293 | I11: {=SUM(IF(data!A2:A200="21-40 years",IF(data!B2:B200="30-70%",IF(data!C2:C200="Very Severe (>50%)",data!D2:D200,0),0),0))} -> 6763.9034 | J11: =I11/($K$20+$M$20) -> 0.017950654 | K11: =SUM(C11,E11,G11,I11) -> 10614.399 | L11: =K11/($K$20+$M$20) -> 0.028169445 | M11: {=SUM(IF(data!A2:A200="21-40 years",IF(data!B2:B200="30-70%",IF(data!C2:C200="No Attack",data!D2:D200,0),0),0))} -> 1926.7138 | N11: =M11/($K$20+$M$20) -> 0.0051132861
B12: >70% | C12: {=SUM(IF(data!A2:A200="21-40 years",IF(data!B2:B200=">70%",IF(data!C2:C200="Light (<11%)",data!D2:D200,0),0),0))} -> 3622.107 | D12: =C12/($K$20+$M$20) -> 0.0096126729 | E12: {=SUM(IF(data!A2:A200="21-40 years",IF(data!B2:B200=">70%",IF(data!C2:C200="Moderate (11-30%)",data!D2:D200,0),0),0))} -> 3654.383 | F12: =E12/($K$20+$M$20) -> 0.0096983299 | G12: {=SUM(IF(data!A2:A200="21-40 years",IF(data!B2:B200=">70%",IF(data!C2:C200="Severe (31-50%)",data!D2:D200,0),0),0))} -> 3452.8218 | H12: =G12/($K$20+$M$20) -> 0.0091634086 | I12: {=SUM(IF(data!A2:A200="21-40 years",IF(data!B2:B200=">70%",IF(data!C2:C200="Very Severe (>50%)",data!D2:D200,0),0),0))} -> 19668.092 | J12: =I12/($K$20+$M$20) -> 0.052196949 | K12: =SUM(C12,E12,G12,I12) -> 30397.404 | L12: =K12/($K$20+$M$20) -> 0.08067136 | M12: {=SUM(IF(data!A2:A200="21-40 years",IF(data!B2:B200=">70%",IF(data!C2:C200="No Attack",data!D2:D200,0),0),0))} -> 4428.0566 | N12: =M12/($K$20+$M$20) -> 0.011751574
A14: 41-60 years | B14: 30-70% | C14: {=SUM(IF(data!A2:A200="41-60 years",IF(data!B2:B200="30-70%",IF(data!C2:C200="Light (<11%)",data!D2:D200,0),0),0))} -> 0 | D14: =C14/($K$20+$M$20) -> 0 | E14: {=SUM(IF(data!A2:A200="41-60 years",IF(data!B2:B200="30-70%",IF(data!C2:C200="Moderate (11-30%)",data!D2:D200,0),0),0))} -> 186.35136 | F14: =E14/($K$20+$M$20) -> 0.00049455597 | G14: {=SUM(IF(data!A2:A200="41-60 years",IF(data!B2:B200="30-70%",IF(data!C2:C200="Severe (31-50%)",data!D2:D200,0),0),0))} -> 129.74192 | H14: =G14/($K$20+$M$20) -> 0.00034432076 | I14: {=SUM(IF(data!A2:A200="41-60 years",IF(data!B2:B200="30-70%",IF(data!C2:C200="Very Severe (>50%)",data!D2:D200,0),0),0))} -> 1867.3635 | J14: =I14/($K$20+$M$20) -> 0.0049557771 | K14: =SUM(C14,E14,G14,I14) -> 2183.4568 | L14: =K14/($K$20+$M$20) -> 0.0057946539 | M14: {=SUM(IF(data!A2:A200="41-60 years",IF(data!B2:B200="30-70%",IF(data!C2:C200="No Attack",data!D2:D200,0),0),0))} -> 329.1503 | N14: =M14/($K$20+$M$20) -> 0.00087352863
B15: >70% | C15: {=SUM(IF(data!A2:A200="41-60 years",IF(data!B2:B200=">70%",IF(data!C2:C200="Light (<11%)",data!D2:D200,0),0),0))} -> 82.789441 | D15: =C15/($K$20+$M$20) -> 0.00021971406 | E15: {=SUM(IF(data!A2:A200="41-60 years",IF(data!B2:B200=">70%",IF(data!C2:C200="Moderate (11-30%)",data!D2:D200,0),0),0))} -> 419.25168 | F15: =E15/($K$20+$M$20) -> 0.0011126478 | G15: {=SUM(IF(data!A2:A200="41-60 years",IF(data!B2:B200=">70%",IF(data!C2:C200="Severe (31-50%)",data!D2:D200,0),0),0))} -> 577.03244 | H15: =G15/($K$20+$M$20) -> 0.0015313805 | I15: {=SUM(IF(data!A2:A200="41-60 years",IF(data!B2:B200=">70%",IF(data!C2:C200="Very Severe (>50%)",data!D2:D200,0),0),0))} -> 1808.8768 | J15: =I15/($K$20+$M$20) -> 0.0048005598 | K15: =SUM(C15,E15,G15,I15) -> 2887.9504 | L15: =K15/($K$20+$M$20) -> 0.0076643022 | M15: {=SUM(IF(data!A2:A200="41-60 years",IF(data!B2:B200=">70%",IF(data!C2:C200="No Attack",data!D2:D200,0),0),0))} -> 517.90293 | N15: =M15/($K$20+$M$20) -> 0.0013744573
A17: >60 years | B17: 30-70% | C17: {=SUM(IF(data!A2:A200=">60 years",IF(data!B2:B200="30-70%",IF(data!C2:C200="Light (<11%)",data!D2:D200,0),0),0))} -> 1431.3616 | D17: =C17/($K$20+$M$20) -> 0.003798676 | E17: {=SUM(IF(data!A2:A200=">60 years",IF(data!B2:B200="30-70%",IF(data!C2:C200="Moderate (11-30%)",data!D2:D200,0),0),0))} -> 2227.8468 | F17: =E17/($K$20+$M$20) -> 0.0059124599 | G17: {=SUM(IF(data!A2:A200=">60 years",IF(data!B2:B200="30-70%",IF(data!C2:C200="Severe (31-50%)",data!D2:D200,0),0),0))} -> 3332.2207 | H17: =G17/($K$20+$M$20) -> 0.0088433467 | I17: {=SUM(IF(data!A2:A200=">60 years",IF(data!B2:B200="30-70%",IF(data!C2:C200="Very Severe (>50%)",data!D2:D200,0),0),0))} -> 131022.02 | J17: =I17/($K$20+$M$20) -> 0.34771802 | K17: =SUM(C17,E17,G17,I17) -> 138013.45 | L17: =K17/($K$20+$M$20) -> 0.3662725 | M17: {=SUM(IF(data!A2:A200=">60 years",IF(data!B2:B200="30-70%",IF(data!C2:C200="No Attack",data!D2:D200,0),0),0))} -> 7028.6878 | N17: =M17/($K$20+$M$20) -> 0.018653363
B18: >70% | C18: {=SUM(IF(data!A2:A200=">60 years",IF(data!B2:B200=">70%",IF(data!C2:C200="Light (<11%)",data!D2:D200,0),0),0))} -> 1170.5074 | D18: =C18/($K$20+$M$20) -> 0.0031063977 | E18: {=SUM(IF(data!A2:A200=">60 years",IF(data!B2:B200=">70%",IF(data!C2:C200="Moderate (11-30%)",data!D2:D200,0),0),0))} -> 2342.1431 | F18: =E18/($K$20+$M$20) -> 0.0062157898 | G18: {=SUM(IF(data!A2:A200=">60 years",IF(data!B2:B200=">70%",IF(data!C2:C200="Severe (31-50%)",data!D2:D200,0),0),0))} -> 4255.7907 | H18: =G18/($K$20+$M$20) -> 0.0112944 | I18: {=SUM(IF(data!A2:A200=">60 years",IF(data!B2:B200=">70%",IF(data!C2:C200="Very Severe (>50%)",data!D2:D200,0),0),0))} -> 167639 | J18: =I18/($K$20+$M$20) -> 0.44489545 | K18: =SUM(C18,E18,G18,I18) -> 175407.45 | L18: =K18/($K$20+$M$20) -> 0.46551204 | M18: {=SUM(IF(data!A2:A200=">60 years",IF(data!B2:B200=">70%",IF(data!C2:C200="No Attack",data!D2:D200,0),0),0))} -> 3070.7723 | N18: =M18/($K$20+$M$20) -> 0.0081494915
A20: Total | C20: =SUM(C11:C18) -> 7090.2255 | D20: =C20/($K$20+$M$20) -> 0.018816677 | E20: =SUM(E11:E18) -> 11394.756 | F20: =E20/($K$20+$M$20) -> 0.030240427 | G20: =SUM(G11:G18) -> 12249.863 | H20: =G20/($K$20+$M$20) -> 0.032509786 | I20: =SUM(I11:I18) -> 328769.26 | J20: =I20/($K$20+$M$20) -> 0.87251741 | K20: =SUM(K11:K18) -> 359504.11 | L20: =SUM(L11:L18) -> 0.9540843 | M20: =SUM(M11:M18) -> 17301.284 | N20: =SUM(N11:N18) -> 0.045915701

Sheet data
A1: Age Class | B1: Pine Density | C1: MPB Attack Severity | D1: Sum Of area_ha
A2: <21 years | B2: >70% | C2: Light (<11%) | D2: 259.62483
A3: <21 years | B3: >70% | C3: Light (<11%) | D3: 1123.3276
A4: <21 years | B4: >70% | C4: Light (<11%) | D4: 330.09571
A5: <21 years | B5: >70% | C5: Moderate (11-30%) | D5: 68.275071
A6: <21 years | B6: >70% | C6: Moderate (11-30%) | D6: 243.15873
A7: <21 years | B7: >70% | C7: Moderate (11-30%) | D7: 17.744032
A8: <21 years | B8: >70% | C8: No Attack | D8: 407.36424
A9: <21 years | B9: >70% | C9: No Attack | D9: 161.30087
A10: <21 years | B10: >70% | C10: No Attack | D10: 126.29154
A11: <21 years | B11: >70% | C11: No Attack | D11: 925.19654
A12: <21 years | B12: >70% | C12: Severe (31-50%) | D12: 3.5472174
A13: <21 years | B13: >70% | C13: Severe (31-50%) | D13: 49.658196
... A120: 41-60 years | B120: 30-70% | C120: Very Severe (>50%) | D120: 296.56874

Sheet Sheet3
